BEGIN:VCALENDAR
VERSION:2.0
PRODID:-//North Urban Brewing Society - ECPv6.15.17.1//NONSGML v1.0//EN
CALSCALE:GREGORIAN
METHOD:PUBLISH
X-ORIGINAL-URL:https://northurbanbrewingsociety.com
X-WR-CALDESC:Events for North Urban Brewing Society
REFRESH-INTERVAL;VALUE=DURATION:PT1H
X-Robots-Tag:noindex
X-PUBLISHED-TTL:PT1H
BEGIN:VTIMEZONE
TZID:America/Chicago
BEGIN:DAYLIGHT
TZOFFSETFROM:-0600
TZOFFSETTO:-0500
TZNAME:CDT
DTSTART:20250309T080000
END:DAYLIGHT
BEGIN:STANDARD
TZOFFSETFROM:-0500
TZOFFSETTO:-0600
TZNAME:CST
DTSTART:20251102T070000
END:STANDARD
BEGIN:DAYLIGHT
TZOFFSETFROM:-0600
TZOFFSETTO:-0500
TZNAME:CDT
DTSTART:20260308T080000
END:DAYLIGHT
BEGIN:STANDARD
TZOFFSETFROM:-0500
TZOFFSETTO:-0600
TZNAME:CST
DTSTART:20261101T070000
END:STANDARD
BEGIN:DAYLIGHT
TZOFFSETFROM:-0600
TZOFFSETTO:-0500
TZNAME:CDT
DTSTART:20270314T080000
END:DAYLIGHT
BEGIN:STANDARD
TZOFFSETFROM:-0500
TZOFFSETTO:-0600
TZNAME:CST
DTSTART:20271107T070000
END:STANDARD
END:VTIMEZONE
BEGIN:VEVENT
DTSTART;TZID=America/Chicago:20260502T093000
DTEND;TZID=America/Chicago:20260502T160000
DTSTAMP:20260421T202252
CREATED:20260313T210127Z
LAST-MODIFIED:20260313T212614Z
UID:10000235-1777714200-1777737600@northurbanbrewingsociety.com
SUMMARY:Big Brew 2026
DESCRIPTION:Big Brew Day is coming up on Saturday\, May 2nd\, and we’re celebrating at Perfect Brewing Supply! \nBrewers will be making batches at the shop\, and you’re invited to stop in\, watch the process\, ask questions\, or bring your own brew gear and brew along with us. \nWhether you’re a seasoned brewer or just curious about getting started\, it’s a great chance to learn and hang out with fellow beer lovers. And don’t miss the worldwide homebrewer’s toast at noon\, when brewers everywhere raise a glass together! \nRSVP via Perfect Brewing Supply
URL:https://northurbanbrewingsociety.com/event/big-brew-2026/
LOCATION:Perfect Brewing Supply\, 619 East Park Ave\, Libertyville\, IL\, 60048\, United States
CATEGORIES:Brew Day
GEO:42.2820613;-87.9454037
X-APPLE-STRUCTURED-LOCATION;VALUE=URI;X-ADDRESS=Perfect Brewing Supply 619 East Park Ave Libertyville IL 60048 United States;X-APPLE-RADIUS=500;X-TITLE=619 East Park Ave:geo:-87.9454037,42.2820613
END:VEVENT
BEGIN:VEVENT
DTSTART;TZID=America/Chicago:20260521T180000
DTEND;TZID=America/Chicago:20260521T210000
DTSTAMP:20260421T202252
CREATED:20260218T172534Z
LAST-MODIFIED:20260416T162818Z
UID:10000228-1779386400-1779397200@northurbanbrewingsociety.com
SUMMARY:May 2026 General Meeting
DESCRIPTION:Unless otherwise specified\, join us for our open monthly meeting. Every third Thursday of the month at Perfect Brewing Supply.\nBring a glass and some homebrew; be it beer\, cider\, mead\, wine\, or other homemade treats (we’ve had homemade cheese and charcuterie before). \nFeel free to also bring any beverages you’ve bought and feel like sharing – some month’s you just don’t have any homebrew to spare\, we get it.
URL:https://northurbanbrewingsociety.com/event/may-2026-general-meeting/
LOCATION:Perfect Brewing Supply\, 619 East Park Ave\, Libertyville\, IL\, 60048\, United States
CATEGORIES:Meetings
GEO:42.2820613;-87.9454037
X-APPLE-STRUCTURED-LOCATION;VALUE=URI;X-ADDRESS=Perfect Brewing Supply 619 East Park Ave Libertyville IL 60048 United States;X-APPLE-RADIUS=500;X-TITLE=619 East Park Ave:geo:-87.9454037,42.2820613
END:VEVENT
BEGIN:VEVENT
DTSTART;TZID=America/Chicago:20260618T180000
DTEND;TZID=America/Chicago:20260618T210000
DTSTAMP:20260421T202252
CREATED:20260218T172534Z
LAST-MODIFIED:20260416T163147Z
UID:10000229-1781805600-1781816400@northurbanbrewingsociety.com
SUMMARY:June 2026 General Meeting
DESCRIPTION:Unless otherwise specified\, join us for our open monthly meeting. Every third Thursday of the month at Perfect Brewing Supply.\nBring a glass and some homebrew; be it beer\, cider\, mead\, wine\, or other homemade treats (we’ve had homemade cheese and charcuterie before). \nFeel free to also bring any beverages you’ve bought and feel like sharing – some month’s you just don’t have any homebrew to spare\, we get it.
URL:https://northurbanbrewingsociety.com/event/june-2026-general-meeting/
LOCATION:Perfect Brewing Supply\, 619 East Park Ave\, Libertyville\, IL\, 60048\, United States
CATEGORIES:Meetings
GEO:42.2820613;-87.9454037
X-APPLE-STRUCTURED-LOCATION;VALUE=URI;X-ADDRESS=Perfect Brewing Supply 619 East Park Ave Libertyville IL 60048 United States;X-APPLE-RADIUS=500;X-TITLE=619 East Park Ave:geo:-87.9454037,42.2820613
END:VEVENT
BEGIN:VEVENT
DTSTART;TZID=America/Chicago:20260716T180000
DTEND;TZID=America/Chicago:20260716T210000
DTSTAMP:20260421T202252
CREATED:20260218T172546Z
LAST-MODIFIED:20260416T162837Z
UID:10000230-1784224800-1784235600@northurbanbrewingsociety.com
SUMMARY:July 2026 General Meeting
DESCRIPTION:Unless otherwise specified\, join us for our open monthly meeting. Every third Thursday of the month at Perfect Brewing Supply.\nBring a glass and some homebrew; be it beer\, cider\, mead\, wine\, or other homemade treats (we’ve had homemade cheese and charcuterie before). \nFeel free to also bring any beverages you’ve bought and feel like sharing – some month’s you just don’t have any homebrew to spare\, we get it.
URL:https://northurbanbrewingsociety.com/event/july-2026-general-meeting/
LOCATION:Perfect Brewing Supply\, 619 East Park Ave\, Libertyville\, IL\, 60048\, United States
CATEGORIES:Meetings
GEO:42.2820613;-87.9454037
X-APPLE-STRUCTURED-LOCATION;VALUE=URI;X-ADDRESS=Perfect Brewing Supply 619 East Park Ave Libertyville IL 60048 United States;X-APPLE-RADIUS=500;X-TITLE=619 East Park Ave:geo:-87.9454037,42.2820613
END:VEVENT
BEGIN:VEVENT
DTSTART;TZID=America/Chicago:20260820T180000
DTEND;TZID=America/Chicago:20260820T210000
DTSTAMP:20260421T202252
CREATED:20260218T172547Z
LAST-MODIFIED:20260416T162853Z
UID:10000231-1787248800-1787259600@northurbanbrewingsociety.com
SUMMARY:August 2026 General Meeting
DESCRIPTION:Unless otherwise specified\, join us for our open monthly meeting. Every third Thursday of the month at Perfect Brewing Supply.\nBring a glass and some homebrew; be it beer\, cider\, mead\, wine\, or other homemade treats (we’ve had homemade cheese and charcuterie before). \nFeel free to also bring any beverages you’ve bought and feel like sharing – some month’s you just don’t have any homebrew to spare\, we get it.
URL:https://northurbanbrewingsociety.com/event/august-2026-general-meeting/
LOCATION:Perfect Brewing Supply\, 619 East Park Ave\, Libertyville\, IL\, 60048\, United States
CATEGORIES:Meetings
GEO:42.2820613;-87.9454037
X-APPLE-STRUCTURED-LOCATION;VALUE=URI;X-ADDRESS=Perfect Brewing Supply 619 East Park Ave Libertyville IL 60048 United States;X-APPLE-RADIUS=500;X-TITLE=619 East Park Ave:geo:-87.9454037,42.2820613
END:VEVENT
BEGIN:VEVENT
DTSTART;TZID=America/Chicago:20260917T180000
DTEND;TZID=America/Chicago:20260917T210000
DTSTAMP:20260421T202252
CREATED:20260218T172548Z
LAST-MODIFIED:20260416T162859Z
UID:10000232-1789668000-1789678800@northurbanbrewingsociety.com
SUMMARY:September 2026 General Meeting
DESCRIPTION:Unless otherwise specified\, join us for our open monthly meeting. Every third Thursday of the month at Perfect Brewing Supply.\nBring a glass and some homebrew; be it beer\, cider\, mead\, wine\, or other homemade treats (we’ve had homemade cheese and charcuterie before). \nFeel free to also bring any beverages you’ve bought and feel like sharing – some month’s you just don’t have any homebrew to spare\, we get it.
URL:https://northurbanbrewingsociety.com/event/september-2026-general-meeting/
LOCATION:Perfect Brewing Supply\, 619 East Park Ave\, Libertyville\, IL\, 60048\, United States
CATEGORIES:Meetings
GEO:42.2820613;-87.9454037
X-APPLE-STRUCTURED-LOCATION;VALUE=URI;X-ADDRESS=Perfect Brewing Supply 619 East Park Ave Libertyville IL 60048 United States;X-APPLE-RADIUS=500;X-TITLE=619 East Park Ave:geo:-87.9454037,42.2820613
END:VEVENT
BEGIN:VEVENT
DTSTART;TZID=America/Chicago:20261015T180000
DTEND;TZID=America/Chicago:20261015T220000
DTSTAMP:20260421T202252
CREATED:20260218T172548Z
LAST-MODIFIED:20260416T162906Z
UID:10000233-1792087200-1792101600@northurbanbrewingsociety.com
SUMMARY:October 2026 General Meeting
DESCRIPTION:Unless otherwise specified\, join us for our open monthly meeting. Every third Thursday of the month at Perfect Brewing Supply.\nBring a glass and some homebrew; be it beer\, cider\, mead\, wine\, or other homemade treats (we’ve had homemade cheese and charcuterie before). \nFeel free to also bring any beverages you’ve bought and feel like sharing – some month’s you just don’t have any homebrew to spare\, we get it.
URL:https://northurbanbrewingsociety.com/event/october-2026-general-meeting/
LOCATION:Perfect Brewing Supply\, 619 East Park Ave\, Libertyville\, IL\, 60048\, United States
CATEGORIES:Meetings
GEO:42.2820613;-87.9454037
X-APPLE-STRUCTURED-LOCATION;VALUE=URI;X-ADDRESS=Perfect Brewing Supply 619 East Park Ave Libertyville IL 60048 United States;X-APPLE-RADIUS=500;X-TITLE=619 East Park Ave:geo:-87.9454037,42.2820613
END:VEVENT
BEGIN:VEVENT
DTSTART;TZID=America/Chicago:20261119T180000
DTEND;TZID=America/Chicago:20261119T210000
DTSTAMP:20260421T202252
CREATED:20260218T172549Z
LAST-MODIFIED:20260416T162941Z
UID:10000234-1795111200-1795122000@northurbanbrewingsociety.com
SUMMARY:November 2026 General Meeting
DESCRIPTION:Unless otherwise specified\, join us for our open monthly meeting. Every third Thursday of the month at Perfect Brewing Supply.\nBring a glass and some homebrew; be it beer\, cider\, mead\, wine\, or other homemade treats (we’ve had homemade cheese and charcuterie before). \nFeel free to also bring any beverages you’ve bought and feel like sharing – some month’s you just don’t have any homebrew to spare\, we get it.
URL:https://northurbanbrewingsociety.com/event/november-2026-general-meeting/
LOCATION:Perfect Brewing Supply\, 619 East Park Ave\, Libertyville\, IL\, 60048\, United States
CATEGORIES:Meetings
GEO:42.2820613;-87.9454037
X-APPLE-STRUCTURED-LOCATION;VALUE=URI;X-ADDRESS=Perfect Brewing Supply 619 East Park Ave Libertyville IL 60048 United States;X-APPLE-RADIUS=500;X-TITLE=619 East Park Ave:geo:-87.9454037,42.2820613
END:VEVENT
END:VCALENDAR